BEGIN:VCALENDAR
VERSION:2.0
PRODID:-//Garden Party Books - ECPv6.15.20//NONSGML v1.0//EN
CALSCALE:GREGORIAN
METHOD:PUBLISH
X-ORIGINAL-URL:https://gardenpartybooks.com
X-WR-CALDESC:Events for Garden Party Books
REFRESH-INTERVAL;VALUE=DURATION:PT1H
X-Robots-Tag:noindex
X-PUBLISHED-TTL:PT1H
BEGIN:VTIMEZONE
TZID:America/Chicago
BEGIN:DAYLIGHT
TZOFFSETFROM:-0600
TZOFFSETTO:-0500
TZNAME:CDT
DTSTART:20250309T080000
END:DAYLIGHT
BEGIN:STANDARD
TZOFFSETFROM:-0500
TZOFFSETTO:-0600
TZNAME:CST
DTSTART:20251102T070000
END:STANDARD
BEGIN:DAYLIGHT
TZOFFSETFROM:-0600
TZOFFSETTO:-0500
TZNAME:CDT
DTSTART:20260308T080000
END:DAYLIGHT
BEGIN:STANDARD
TZOFFSETFROM:-0500
TZOFFSETTO:-0600
TZNAME:CST
DTSTART:20261101T070000
END:STANDARD
BEGIN:DAYLIGHT
TZOFFSETFROM:-0600
TZOFFSETTO:-0500
TZNAME:CDT
DTSTART:20270314T080000
END:DAYLIGHT
BEGIN:STANDARD
TZOFFSETFROM:-0500
TZOFFSETTO:-0600
TZNAME:CST
DTSTART:20271107T070000
END:STANDARD
END:VTIMEZONE
BEGIN:VEVENT
DTSTART;TZID=America/Chicago:20260425T110000
DTEND;TZID=America/Chicago:20260425T173000
DTSTAMP:20260423T122115
CREATED:20260419T192017Z
LAST-MODIFIED:20260419T192021Z
UID:3786-1777114800-1777138200@gardenpartybooks.com
SUMMARY:Independent Bookstore Day!
DESCRIPTION:This national one-day party celebrates independent bookstores across the country! In Rochester\, come celebrate at Garden Party and Griot Arts! \n\n\n\nWe’ll have so many fun things in store and free gifts for you: \n\n\n\nExclusive and/or autographed editions of Black AF History\, The Secret History of Fantasy\, Diary of a Wimpy Kid: Party Pooper\, Last Night in Brooklyn\, Crowntide\, and a Warriors-based role playing game! \n\n\n\n Free indie bookstore day stickers\, bookmarks\, coloring books\, activity books\, and puzzle books! \n\n\n\n One @librofm golden ticket hidden in the store. If you find it you get 12 free audio books! \n\n\n\n A station to make free collage postcards! \n\n\n\n A free adorable die cut bookmark if you spend $35 or more! \n\n\n\n A free ARC with any purchase! \n\n\n\n Free 2026 Midwest Bookstore Indie Roadmaps! \n\n\n\nAND MORE! Watch this space for more info on all of this! \n\n\n\nThere will be limited supplies of everything\, so make sure to come early if there’s something you especially want! \n\n\n\nGriot Arts is also celebrating Indie Bookstore Day at their store downtown! They are at 115 N Broadway Avenue\, Rochester\, MN 55906\, and they’ll be open from 11AM to 5PM. Follow them on social media to get more info about their celebration!
URL:https://gardenpartybooks.com/event/independent-bookstore-day-2/
LOCATION:Garden Party Books\, 602 7th St NW\, Rochester\, Minnesota\, 55901\, United States
CATEGORIES:Garden Party Books
ATTACH;FMTTYPE=image/png:https://gardenpartybooks.com/wp-content/uploads/2026/04/IBD2026-Celebrate-1080x1350-1.png
END:VEVENT
END:VCALENDAR