BEGIN:VCALENDAR
VERSION:2.0
PRODID:-//Garden Party Books - ECPv6.15.20//NONSGML v1.0//EN
CALSCALE:GREGORIAN
METHOD:PUBLISH
X-WR-CALNAME:Garden Party Books
X-ORIGINAL-URL:https://gardenpartybooks.com
X-WR-CALDESC:Events for Garden Party Books
REFRESH-INTERVAL;VALUE=DURATION:PT1H
X-Robots-Tag:noindex
X-PUBLISHED-TTL:PT1H
BEGIN:VTIMEZONE
TZID:America/Chicago
BEGIN:DAYLIGHT
TZOFFSETFROM:-0600
TZOFFSETTO:-0500
TZNAME:CDT
DTSTART:20210314T080000
END:DAYLIGHT
BEGIN:STANDARD
TZOFFSETFROM:-0500
TZOFFSETTO:-0600
TZNAME:CST
DTSTART:20211107T070000
END:STANDARD
BEGIN:DAYLIGHT
TZOFFSETFROM:-0600
TZOFFSETTO:-0500
TZNAME:CDT
DTSTART:20220313T080000
END:DAYLIGHT
BEGIN:STANDARD
TZOFFSETFROM:-0500
TZOFFSETTO:-0600
TZNAME:CST
DTSTART:20221106T070000
END:STANDARD
BEGIN:DAYLIGHT
TZOFFSETFROM:-0600
TZOFFSETTO:-0500
TZNAME:CDT
DTSTART:20230312T080000
END:DAYLIGHT
BEGIN:STANDARD
TZOFFSETFROM:-0500
TZOFFSETTO:-0600
TZNAME:CST
DTSTART:20231105T070000
END:STANDARD
BEGIN:DAYLIGHT
TZOFFSETFROM:-0600
TZOFFSETTO:-0500
TZNAME:CDT
DTSTART:20240310T080000
END:DAYLIGHT
BEGIN:STANDARD
TZOFFSETFROM:-0500
TZOFFSETTO:-0600
TZNAME:CST
DTSTART:20241103T070000
END:STANDARD
END:VTIMEZONE
BEGIN:VEVENT
DTSTART;TZID=America/Chicago:20230311T183000
DTEND;TZID=America/Chicago:20230311T200000
DTSTAMP:20260423T183603
CREATED:20230127T190056Z
LAST-MODIFIED:20230127T190059Z
UID:1077-1678559400-1678564800@gardenpartybooks.com
SUMMARY:New Book Event! Out of Character
DESCRIPTION:Registration Required! Register here!  \n\n\n\nMinnesota author Jenna Miller will be at Garden Party celebrating her new YA book\, Out of Character! \n\n\n\nIf you asked seventeen-year-old Cass Williams to describe herself\, she’d happily tell you she’s fat\, queer\, and obsessed with the Tide Wars books. What she won’t tell you—or anyone in her life—is that she’s part of an online Tide Wars roleplay community. Sure\, it’s nerdy as hell\, but when she’s behind the screen writing scenes as Captain Aresha\, she doesn’t have to think about her mother who walked out or how unexpectedly stressful it is dating resident cool girl Taylor Cooper. \n\n\n\nJenna will talk about the book and answer your burning questions. Copies will be available for purchase and signing. \n\n\n\nThis is a free event but it is ticketed so it doesn’t get too crowded. Register for tickets here by clicking “Attend” and then checking out your cart (no credit card info is required). At the event your name will be on the list! Please register separately for every attendee. Can’t wait to see you there!
URL:https://gardenpartybooks.com/event/new-book-event-out-of-character/
LOCATION:Garden Party Books\, 602 7th St NW\, Rochester\, Minnesota\, 55901\, United States
CATEGORIES:Garden Party Books
ATTACH;FMTTYPE=image/jpeg:https://gardenpartybooks.com/wp-content/uploads/2023/01/outofcharacter.jpg
END:VEVENT
BEGIN:VEVENT
DTSTART;TZID=America/Chicago:20230218T130000
DTEND;TZID=America/Chicago:20230218T160000
DTSTAMP:20260423T183603
CREATED:20230110T061125Z
LAST-MODIFIED:20230110T061129Z
UID:839-1676725200-1676736000@gardenpartybooks.com
SUMMARY:Make Plates & Platters (2 Classes)
DESCRIPTION:Register now!  \n\n\n\nThe first night of class you will learn four techniques for handbuilding plates and platters: slump molds\, hump molds\, push molds and pinching. \n\n\n\nThe second class we will finish the edges\, add a foot if desired\, and learn several ways to decorate your work: painting\, carving\, and sgraffitto. \n\n\n\nExpect to make 3 to 5 gorgeous plates and/or platters that are microwave\, oven\, and dishwasher safe! \n\n\n\nSaturday\, February 18\, 1-4 PMSaturday\, February 25\, 1-4 PM \n\n\n\n$59 for classes \n\n\n\n$13 for supplies (clay\, glazes firing) \n\n\n\n\n\n\n\n\n\n\n\n\n\nAll the example pictures are made by Karen Flynn\, the excellent instructor for this class! See more on instagram: \n\n\n\n https://www.instagram.com/ceramics_by_karen/ \n\n\n\nRegister Now!
URL:https://gardenpartybooks.com/event/make-plates-platters-2-classes/
LOCATION:Comradery Pottery\, 320 East Ave\, Zumbrota\, Minnesota\, 55992\, United States
CATEGORIES:Comradery Pottery
ATTACH;FMTTYPE=image/png:https://gardenpartybooks.com/wp-content/uploads/2023/01/Screenshot-2023-01-09-11.53.59-PM.png
END:VEVENT
BEGIN:VEVENT
DTSTART;TZID=America/Chicago:20230211T183000
DTEND;TZID=America/Chicago:20230211T200000
DTSTAMP:20260423T183603
CREATED:20230202T185813Z
LAST-MODIFIED:20230202T185817Z
UID:1161-1676140200-1676145600@gardenpartybooks.com
SUMMARY:New Book Event: She's Still Here
DESCRIPTION:Join us on February 11th from 6:30 – 8:00pm to celebrate local author Caitlin Alexander’s paranormal middle grade novel\, She’s Still Here! There will be an author Q&A\, a book signing\, snacks and drinks\, and plenty of spooky fun! \n\n\n\nThe event is free\, and books will be available for purchase at the event. We hope to see you there! \n\n\n\nKate is new in town. Jane has been there for what seems like forever. Can Kate find out the truth? The one that is keeping Jane tethered to Ravendale Middle School? Find out in book one of the Kate Sablowsky Paranormal Investigator Series … And know life’s not just the here and now. For fans of Mary Downing Hahn and the Nancy Drew mystery book series\, you’ll love Caitlin Alexander’s debut middle grade paranormal horror\, filled with the perfect combination of ghostly mystery and adventure.
URL:https://gardenpartybooks.com/event/new-book-event-shes-still-here/
LOCATION:Garden Party Books\, 602 7th St NW\, Rochester\, Minnesota\, 55901\, United States
CATEGORIES:Garden Party Books
ATTACH;FMTTYPE=image/jpeg:https://gardenpartybooks.com/wp-content/uploads/2023/02/51tc3V623EL.jpg
END:VEVENT
BEGIN:VEVENT
DTSTART;TZID=America/Chicago:20230211T130000
DTEND;TZID=America/Chicago:20230211T160000
DTSTAMP:20260423T183603
CREATED:20230125T230511Z
LAST-MODIFIED:20230125T230515Z
UID:1048-1676120400-1676131200@gardenpartybooks.com
SUMMARY:Author Meet  & Greet: Amy Gregg
DESCRIPTION:We’re excited to host Minnesota author Amy Gregg! Come buy a copy of her new cozy mystery\, Farmed and Dangerous\, set in southern Minnesota farming country! Amy will be here to chat and sign books. Support a local author!  \n\n\n\nMinneapolis socialite Lilly Schmidt thought she had her life figured out… until her world came crashing down with the one-two punch of divorce papers and news of her grandparents’ deaths. \n\n\n\nSuddenly single and the new owner of her family’s farm\, Lilly finds herself thrust back into the old life she’d left far behind in her rural hometown of Lone Tree\, Minnesota. The simple restart Lilly looks for on the farm is anything but when she is caught up in the fight between land developers hoping to bring new business and growth to the town\, and the locals who want to keep their country life simple. She also\, begrudgingly\, must keep the peace with the farm’s hired hand Ryan\, who also happens to be her old high school boyfriend—and is he still nursing a grudge! \n\n\n\nWhen one of the land developers is found dead on her farm\, Lilly faces a mix of small-town feuds and family secrets that proves deadlier with each turn. Can Lilly figure out the killer before she “buys the farm” permanently?
URL:https://gardenpartybooks.com/event/author-meet-greet-amy-gregg/
LOCATION:Garden Party Books\, 602 7th St NW\, Rochester\, Minnesota\, 55901\, United States
CATEGORIES:Garden Party Books
ATTACH;FMTTYPE=image/jpeg:https://gardenpartybooks.com/wp-content/uploads/2023/01/IMG_20220816_151645_269.jpg
END:VEVENT
BEGIN:VEVENT
DTSTART;TZID=America/Chicago:20230128T130000
DTEND;TZID=America/Chicago:20230128T160000
DTSTAMP:20260423T183603
CREATED:20230125T224030Z
LAST-MODIFIED:20230125T224401Z
UID:1044-1674910800-1674921600@gardenpartybooks.com
SUMMARY:Author Meet  & Greet: Jason Lee Willis
DESCRIPTION:We are so thrilled to have Minnesota author Jason Lee Willis in store this Saturday to chat with readers and sign copies The Alchemist’s Map and his new book\,  The Fire Handler. The Alchemist’s Map is a fantastical adventure through historical Minnesota and has been a reader favorite in store! \n\n\n\nTo meet Jason\, stop into Garden Party this Saturday\, January 28th\, from 1:00-4:00!
URL:https://gardenpartybooks.com/event/author-meet-greet-jason-lee-willis/
LOCATION:Garden Party Books\, 602 7th St NW\, Rochester\, Minnesota\, 55901\, United States
CATEGORIES:Garden Party Books
ATTACH;FMTTYPE=image/jpeg:https://gardenpartybooks.com/wp-content/uploads/2023/01/327050010_2265473706960059_6999205904084756526_n.jpg
END:VEVENT
BEGIN:VEVENT
DTSTART;TZID=America/Chicago:20230121T130000
DTEND;TZID=America/Chicago:20230121T153000
DTSTAMP:20260423T183603
CREATED:20230110T054057Z
LAST-MODIFIED:20230110T060641Z
UID:833-1674306000-1674315000@gardenpartybooks.com
SUMMARY:Paint & Carve Pottery Class
DESCRIPTION:Register now! \n\n\n\nLearn the sgraffitto decorating method by painting and carving two premade plates or bowls. \n\n\n\nWe will paint them with underglaze (used like watercolors/acrylics)\, dry and then carve the design to reveal the clay beneath. There will be lots of design templates you can use\, or you can create your own design. We will give them a clear glaze and then fire them to create foodsafe\, oven\, dishwasher and microwave safe dishes.  \n\n\n\nYou’ll later pick up your beautiful pieces\, and you’ll learn a fun new artistic technique! \n\n\n\n$29 for class \n\n\n\n$10 for supplies and firing \n\n\n\nRegister now! \n\n\n\n\n\n\n\n\n\n\n\n\n\n\n\n\n\nAll the example pictures are made by Karen Flynn\, the excellent instructor for this class! See more on instagram: https://www.instagram.com/ceramics_by_karen/
URL:https://gardenpartybooks.com/event/paint-carve-pottery-class/
LOCATION:Comradery Pottery\, 320 East Ave\, Zumbrota\, Minnesota\, 55992\, United States
CATEGORIES:Comradery Pottery
ATTACH;FMTTYPE=image/png:https://gardenpartybooks.com/wp-content/uploads/2023/01/Screenshot-2023-01-09-11.05.36-PM.png
END:VEVENT
BEGIN:VEVENT
DTSTART;TZID=America/Chicago:20221210T120000
DTEND;TZID=America/Chicago:20221210T160000
DTSTAMP:20260423T183603
CREATED:20221202T181603Z
LAST-MODIFIED:20221202T190042Z
UID:721-1670673600-1670688000@gardenpartybooks.com
SUMMARY:Make a FREE Ceramic Ornament!
DESCRIPTION:Handbuild an ornament for your tree or for the window or as a wonderful gift for that special someone you love so much.  \n\n\n\n\n\n\n\n\n\n\n\n\n\nThe first ornament is completely free\, and it’s only $5/each for additional pieces. \n\n\n\nWe’ll dry them thoroughly and bisque fire them. After that\, we’ll clear glaze each one to make them shiny. Lastly\, we’ll high fire them so they’re strong. \n\n\n\nGuaranteed to be ready for pick up by December 23 at the latest. \n\n\n\nAll ages welcome – kids 6 and under should have an adult helper (who may also make their own ornament). \n\n\n\nNo need to register – just show up and we’ll help you through the process 🙂 Stop by as you enjoy Christmas in Zumbrota\, with Santa at Dwell and lots of fun holiday magic at all the downtown stores!  \n\n\n\nMarie Marvin and Karen Flynn\, instructors.
URL:https://gardenpartybooks.com/event/make-a-free-ceramic-ornament/
LOCATION:Comradery Pottery\, 320 East Ave\, Zumbrota\, Minnesota\, 55992\, United States
CATEGORIES:Comradery Pottery
END:VEVENT
BEGIN:VEVENT
DTSTART;TZID=America/Chicago:20221206T103000
DTEND;TZID=America/Chicago:20221206T113000
DTSTAMP:20260423T183603
CREATED:20220930T011801Z
LAST-MODIFIED:20221205T165148Z
UID:607-1670322600-1670326200@gardenpartybooks.com
SUMMARY:Canceled: Story Time at Nana Gogo Toybrary
DESCRIPTION:We’re so sorry! If you were planning on going to this story time\, definitely go and play anyway\, and the next time you’re in Garden Party reference this cancellation for a free children’s book!  \n\n\n\n_____________ \n\n\n\nGarden Party Books will be at Nana Gogo Toybrary on Tuesday\, November 1 at 10:30 AM! We’ll read fun stories together\, and we’ll also have a small children’s book sale (all books are $3).  \n\n\n\nThis event is free for Nana Gogo Toybrary members and will be included in a day pass for non-members ($7.50 per child). A day pass allows your kids to play as long as they want with all of the fabulous toys!
URL:https://gardenpartybooks.com/event/story-time-at-nana-gogo-toybrary/
LOCATION:Nana Gogo Toybrary\, 2300 Superior Drive NW\, Rochester\, Minnesota\, 55901\, United States
CATEGORIES:Garden Party Books
ATTACH;FMTTYPE=image/jpeg:https://gardenpartybooks.com/wp-content/uploads/2022/09/toybrary.jpg
END:VEVENT
BEGIN:VEVENT
DTSTART;TZID=America/Chicago:20221119T100000
DTEND;TZID=America/Chicago:20221119T150000
DTSTAMP:20260423T183603
CREATED:20221028T173000Z
LAST-MODIFIED:20221111T170747Z
UID:652-1668852000-1668870000@gardenpartybooks.com
SUMMARY:Fox Pointe Publishing Book Fair at Garden Party!
DESCRIPTION:Fox Pointe Publishing is based in Austin\, Minnesota\, and they will be at Garden Party Books with 60+ titles along for the ride! They publish many SE Minnesota & regional authors.  \n\n\n\nCome find your new favorite book!
URL:https://gardenpartybooks.com/event/fox-pointe-publishing-book-fair-at-garden-party/
LOCATION:Garden Party Books\, 602 7th St NW\, Rochester\, Minnesota\, 55901
CATEGORIES:Garden Party Books
ATTACH;FMTTYPE=image/jpeg:https://gardenpartybooks.com/wp-content/uploads/2022/10/Untitled-design-7.jpg
END:VEVENT
BEGIN:VEVENT
DTSTART;TZID=America/Chicago:20221112T110000
DTEND;TZID=America/Chicago:20221112T140000
DTSTAMP:20260423T183603
CREATED:20221020T202241Z
LAST-MODIFIED:20221104T170826Z
UID:638-1668250800-1668261600@gardenpartybooks.com
SUMMARY:Beginning Pottery Wheel Course (4 Classes)
DESCRIPTION:Register Now! \n\n\n\nWant to learn the art of making functional pottery on the potter’s wheel? Pottery Wheel Instructor Daniel Kim Lee will teach students to center on the wheel\, shape and trim pots\, and more.  \n\n\n\nThe classes are suitable for beginners\, even kids ages 11+ (with an adult) as well as for advanced beginners. Come learn in a fun\, non-judgmental\, and encouraging environment! \n\n\n\nThis four week class is on Saturday afternoons from November 12 to December 10.  (No class November 26 because it’s Thanksgiving weekend) \n\n\n\n\nNovember 12\, 11:00AM-2:00PM\n\n\n\nNovember 19\, 11:00AM-2:00PM\n\n\n\nDecember 3\, 11:00AM-2:00PM\n\n\n\nDecember 10\, 11:00AM-2:00PM\n\n\n\n\nThese classes have a maximum of ten students\, ensuring plenty of student to teacher contact time. This class also teaches you what you need to know to become a pottery studio member.  \n\n\n\nGet your hands wet and enjoy the process of clay. Wear clothes to get dirty and get ready to work the wheel!Class fee is $125\, + $18 for supplies and $3 per piece for firing. \n\n\n\nSupply fee includes one bag of clay (25 pounds)\, all glazing materials\, and use of studio tools. \n\n\n\n(The class time was 12:30-3:30PM but has been changed to 11:00AM-2:00PM) \n\n\n\nRegister Now!
URL:https://gardenpartybooks.com/event/beginning-pottery-wheel-course-4-classes/
LOCATION:Comradery Pottery\, 320 East Ave\, Zumbrota\, Minnesota\, 55992\, United States
CATEGORIES:Comradery Pottery
ATTACH;FMTTYPE=image/jpeg:https://gardenpartybooks.com/wp-content/uploads/2022/10/Untitled-design-6.jpg
END:VEVENT
BEGIN:VEVENT
DTSTART;TZID=America/Chicago:20221031T170000
DTEND;TZID=America/Chicago:20221031T180000
DTSTAMP:20260423T183603
CREATED:20221011T153834Z
LAST-MODIFIED:20221011T153837Z
UID:622-1667235600-1667239200@gardenpartybooks.com
SUMMARY:Trick-or-Treat at Garden Party!
DESCRIPTION:On Halloween when you’re out trick-or-treating\, stop by Garden Party Books in costume and choose a free children’s book! Open to all ages! We can’t wait to see your costumes!
URL:https://gardenpartybooks.com/event/trick-or-treat-at-garden-party/
LOCATION:Garden Party Books\, 602 7th St NW\, Rochester\, Minnesota\, 55901\, United States
CATEGORIES:Garden Party Books
ATTACH;FMTTYPE=image/png:https://gardenpartybooks.com/wp-content/uploads/2022/10/Come-to-Garden-Party-Books-in-costume-on-Halloween-5PM-7PM-and-choose-a-FREE-childrens-book.png
END:VEVENT
BEGIN:VEVENT
DTSTART;TZID=America/Chicago:20221025T183000
DTEND;TZID=America/Chicago:20221025T213000
DTSTAMP:20260423T183603
CREATED:20221006T021056Z
LAST-MODIFIED:20221024T232553Z
UID:613-1666722600-1666733400@gardenpartybooks.com
SUMMARY:Canceled: Wall Clock Pottery Class
DESCRIPTION:Register Now!  \n\n\n\nCome join us at Comradery Pottery for an evening of fun\, designing and creating a working wall clock . . . and yes it will keep time!   \n\n\n\nThis requires no previous experience and your instructor will guide and assist you throughout the process. We have lots of ideas to share and will provide all the materials required. This could be a terrific DIY gift for a family member or friend.  \n\n\n\n$35 for class\, and $10 for fees (clay\, glazes\, clock parts\, and firing fees).  \n\n\n\nRegister Now!
URL:https://gardenpartybooks.com/event/wall-clock-pottery-class/
LOCATION:Comradery Pottery\, 320 East Ave\, Zumbrota\, Minnesota\, 55992\, United States
CATEGORIES:Comradery Pottery
ATTACH;FMTTYPE=image/jpeg:https://gardenpartybooks.com/wp-content/uploads/2022/10/IMG_0496.jpg
END:VEVENT
BEGIN:VEVENT
DTSTART;TZID=America/Chicago:20221016T120000
DTEND;TZID=America/Chicago:20221016T180000
DTSTAMP:20260423T183603
CREATED:20220923T181052Z
LAST-MODIFIED:20220927T033727Z
UID:428-1665921600-1665943200@gardenpartybooks.com
SUMMARY:Intermediate Pottery Wheel Bootcamp
DESCRIPTION:Register Now!  \n\n\n\nLearn new techniques at “pulling a wall\,” and get plenty of time on a wheel to practice. This intermediate class meets at the Comradery Pottery Studio on Sunday\, October 16\, 12-6pm. \n\n\n\nCeramist and teacher Art Gannett will devote time to helping students better understand pulling/building a wall and focus on exactly how to get from a ball of clay to a specific finished shape. There are important guidelines and understandings for making any given shape\, and learning and understanding them makes an enormous difference in progressing beyond the beginning level.  \n\n\n\nSince this is an intermediate class\, students must be able to reliably center and open a ball of clay and have a basic understanding of how to begin pulling up a wall. Anyone 16 and up who has this basic skill level is welcome to join the class. \n\n\n\nPrice is $59\, plus $16 supplies plus a $3 per piece firing fee (paid when picking up finished pots) \n\n\n\nRegister Now!  \n\n\n\nArt Gannett has been making pots for over 46 years. As a potter\, he is virtually self-taught other than a period of time working with Wendelin Stahl in Germany. Gannett is the senior thrower at Red Wing Stoneware and creates his own work in Pepin\, Wisconsin\, at the Little Plum Pottery.
URL:https://gardenpartybooks.com/event/intermediate-pottery-wheel-bootcamp/
LOCATION:Comradery Pottery\, 320 East Ave\, Zumbrota\, Minnesota\, 55992\, United States
CATEGORIES:Comradery Pottery
ATTACH;FMTTYPE=image/png:https://gardenpartybooks.com/wp-content/uploads/2022/09/wheel_intermediate.png
END:VEVENT
BEGIN:VEVENT
DTSTART;TZID=America/Chicago:20221008T100000
DTEND;TZID=America/Chicago:20221008T170000
DTSTAMP:20260423T183603
CREATED:20220926T055852Z
LAST-MODIFIED:20220927T033546Z
UID:472-1665223200-1665248400@gardenpartybooks.com
SUMMARY:FIRST BIRTHDAY $1 BOOK SALE PATIO EXTRAVAGANZA!
DESCRIPTION:Plus free mini funfetti cupcakes!  \n\n\n\n\n\nYou’re Invited! We’re celebrating Garden Party Book’s first birthday on Saturday\, October 8! We’re going to have a huge book sale on the patio\, and all the books are ONE DOLLAR! ONE DOLLAR! You cannot afford to miss out on this party! Also there will be free mini funfetti cupcakes\, the best birthday dessert around.
URL:https://gardenpartybooks.com/event/first-birthday-1-book-sale-patio-extravaganza/
LOCATION:Garden Party Books\, 602 7th St NW\, Rochester\, Minnesota\, 55901\, United States
CATEGORIES:Garden Party Books
ATTACH;FMTTYPE=image/jpeg:https://gardenpartybooks.com/wp-content/uploads/2022/09/FIRST-BIRTHDAY-PATIO-1-BOOK-SALE-EXTRAVAGANZA-1.jpg
END:VEVENT
BEGIN:VEVENT
DTSTART;TZID=America/Chicago:20220923T190000
DTEND;TZID=America/Chicago:20220923T203000
DTSTAMP:20260423T183603
CREATED:20220827T181718Z
LAST-MODIFIED:20220827T193836Z
UID:396-1663959600-1663965000@gardenpartybooks.com
SUMMARY:Garden Party Books: New Book Event! Rochester: An Urban Biography
DESCRIPTION:Come hear local author Virginia Wright-Peterson read from her new book\, “Rochester: An Urban History” at Garden Party Books on September 23 at 7PM. \n\n\n\nAfter the reading we’ll have a Q&A time along with a signing. The book will be available for purchase. This is a great way to learn more about the history of the place you call home! This event is free!  \n\n\n\nIn this brief and engaging history of Rochester\, Virginia M. Wright-Peterson explores fascinating stories of the community: the area’s indigenous people; the importance of the region’s agriculture on the karst\, driftless\, prairie landscape; the persistent flooding of the Zumbro River; the hidden histories held in the unmarked graves of Potter’s Field; the cyclone of 1883 and the famous medical center it spawned; the emergence of an increasingly diverse community; and Destination Medical Center\, a twenty-year plan to develop the area as a global destination for health care—and the largest public-private economic initiative in Minnesota’s history.
URL:https://gardenpartybooks.com/event/garden-party-books-new-book-event-rochester-an-urban-biography/
LOCATION:Garden Party Books\, 602 7th St NW\, Rochester\, Minnesota\, 55901\, United States
CATEGORIES:Garden Party Books
ATTACH;FMTTYPE=image/png:https://gardenpartybooks.com/wp-content/uploads/2022/08/ROCHESTER-AN-URBAN-BIOGRAPHY.png
END:VEVENT
END:VCALENDAR