BEGIN:VCALENDAR
VERSION:2.0
PRODID:-//Garden Party Books - ECPv6.15.20//NONSGML v1.0//EN
CALSCALE:GREGORIAN
METHOD:PUBLISH
X-WR-CALNAME:Garden Party Books
X-ORIGINAL-URL:https://gardenpartybooks.com
X-WR-CALDESC:Events for Garden Party Books
REFRESH-INTERVAL;VALUE=DURATION:PT1H
X-Robots-Tag:noindex
X-PUBLISHED-TTL:PT1H
BEGIN:VTIMEZONE
TZID:America/Chicago
BEGIN:DAYLIGHT
TZOFFSETFROM:-0600
TZOFFSETTO:-0500
TZNAME:CDT
DTSTART:20210314T080000
END:DAYLIGHT
BEGIN:STANDARD
TZOFFSETFROM:-0500
TZOFFSETTO:-0600
TZNAME:CST
DTSTART:20211107T070000
END:STANDARD
BEGIN:DAYLIGHT
TZOFFSETFROM:-0600
TZOFFSETTO:-0500
TZNAME:CDT
DTSTART:20220313T080000
END:DAYLIGHT
BEGIN:STANDARD
TZOFFSETFROM:-0500
TZOFFSETTO:-0600
TZNAME:CST
DTSTART:20221106T070000
END:STANDARD
BEGIN:DAYLIGHT
TZOFFSETFROM:-0600
TZOFFSETTO:-0500
TZNAME:CDT
DTSTART:20230312T080000
END:DAYLIGHT
BEGIN:STANDARD
TZOFFSETFROM:-0500
TZOFFSETTO:-0600
TZNAME:CST
DTSTART:20231105T070000
END:STANDARD
END:VTIMEZONE
BEGIN:VEVENT
DTSTART;TZID=America/Chicago:20221025T183000
DTEND;TZID=America/Chicago:20221025T213000
DTSTAMP:20260424T031452
CREATED:20221006T021056Z
LAST-MODIFIED:20221024T232553Z
UID:613-1666722600-1666733400@gardenpartybooks.com
SUMMARY:Canceled: Wall Clock Pottery Class
DESCRIPTION:Register Now!  \n\n\n\nCome join us at Comradery Pottery for an evening of fun\, designing and creating a working wall clock . . . and yes it will keep time!   \n\n\n\nThis requires no previous experience and your instructor will guide and assist you throughout the process. We have lots of ideas to share and will provide all the materials required. This could be a terrific DIY gift for a family member or friend.  \n\n\n\n$35 for class\, and $10 for fees (clay\, glazes\, clock parts\, and firing fees).  \n\n\n\nRegister Now!
URL:https://gardenpartybooks.com/event/wall-clock-pottery-class/
LOCATION:Comradery Pottery\, 320 East Ave\, Zumbrota\, Minnesota\, 55992\, United States
CATEGORIES:Comradery Pottery
ATTACH;FMTTYPE=image/jpeg:https://gardenpartybooks.com/wp-content/uploads/2022/10/IMG_0496.jpg
END:VEVENT
BEGIN:VEVENT
DTSTART;TZID=America/Chicago:20221016T120000
DTEND;TZID=America/Chicago:20221016T180000
DTSTAMP:20260424T031452
CREATED:20220923T181052Z
LAST-MODIFIED:20220927T033727Z
UID:428-1665921600-1665943200@gardenpartybooks.com
SUMMARY:Intermediate Pottery Wheel Bootcamp
DESCRIPTION:Register Now!  \n\n\n\nLearn new techniques at “pulling a wall\,” and get plenty of time on a wheel to practice. This intermediate class meets at the Comradery Pottery Studio on Sunday\, October 16\, 12-6pm. \n\n\n\nCeramist and teacher Art Gannett will devote time to helping students better understand pulling/building a wall and focus on exactly how to get from a ball of clay to a specific finished shape. There are important guidelines and understandings for making any given shape\, and learning and understanding them makes an enormous difference in progressing beyond the beginning level.  \n\n\n\nSince this is an intermediate class\, students must be able to reliably center and open a ball of clay and have a basic understanding of how to begin pulling up a wall. Anyone 16 and up who has this basic skill level is welcome to join the class. \n\n\n\nPrice is $59\, plus $16 supplies plus a $3 per piece firing fee (paid when picking up finished pots) \n\n\n\nRegister Now!  \n\n\n\nArt Gannett has been making pots for over 46 years. As a potter\, he is virtually self-taught other than a period of time working with Wendelin Stahl in Germany. Gannett is the senior thrower at Red Wing Stoneware and creates his own work in Pepin\, Wisconsin\, at the Little Plum Pottery.
URL:https://gardenpartybooks.com/event/intermediate-pottery-wheel-bootcamp/
LOCATION:Comradery Pottery\, 320 East Ave\, Zumbrota\, Minnesota\, 55992\, United States
CATEGORIES:Comradery Pottery
ATTACH;FMTTYPE=image/png:https://gardenpartybooks.com/wp-content/uploads/2022/09/wheel_intermediate.png
END:VEVENT
BEGIN:VEVENT
DTSTART;TZID=America/Chicago:20221008T100000
DTEND;TZID=America/Chicago:20221008T170000
DTSTAMP:20260424T031452
CREATED:20220926T055852Z
LAST-MODIFIED:20220927T033546Z
UID:472-1665223200-1665248400@gardenpartybooks.com
SUMMARY:FIRST BIRTHDAY $1 BOOK SALE PATIO EXTRAVAGANZA!
DESCRIPTION:Plus free mini funfetti cupcakes!  \n\n\n\n\n\nYou’re Invited! We’re celebrating Garden Party Book’s first birthday on Saturday\, October 8! We’re going to have a huge book sale on the patio\, and all the books are ONE DOLLAR! ONE DOLLAR! You cannot afford to miss out on this party! Also there will be free mini funfetti cupcakes\, the best birthday dessert around.
URL:https://gardenpartybooks.com/event/first-birthday-1-book-sale-patio-extravaganza/
LOCATION:Garden Party Books\, 602 7th St NW\, Rochester\, Minnesota\, 55901\, United States
CATEGORIES:Garden Party Books
ATTACH;FMTTYPE=image/jpeg:https://gardenpartybooks.com/wp-content/uploads/2022/09/FIRST-BIRTHDAY-PATIO-1-BOOK-SALE-EXTRAVAGANZA-1.jpg
END:VEVENT
BEGIN:VEVENT
DTSTART;TZID=America/Chicago:20220923T190000
DTEND;TZID=America/Chicago:20220923T203000
DTSTAMP:20260424T031452
CREATED:20220827T181718Z
LAST-MODIFIED:20220827T193836Z
UID:396-1663959600-1663965000@gardenpartybooks.com
SUMMARY:Garden Party Books: New Book Event! Rochester: An Urban Biography
DESCRIPTION:Come hear local author Virginia Wright-Peterson read from her new book\, “Rochester: An Urban History” at Garden Party Books on September 23 at 7PM. \n\n\n\nAfter the reading we’ll have a Q&A time along with a signing. The book will be available for purchase. This is a great way to learn more about the history of the place you call home! This event is free!  \n\n\n\nIn this brief and engaging history of Rochester\, Virginia M. Wright-Peterson explores fascinating stories of the community: the area’s indigenous people; the importance of the region’s agriculture on the karst\, driftless\, prairie landscape; the persistent flooding of the Zumbro River; the hidden histories held in the unmarked graves of Potter’s Field; the cyclone of 1883 and the famous medical center it spawned; the emergence of an increasingly diverse community; and Destination Medical Center\, a twenty-year plan to develop the area as a global destination for health care—and the largest public-private economic initiative in Minnesota’s history.
URL:https://gardenpartybooks.com/event/garden-party-books-new-book-event-rochester-an-urban-biography/
LOCATION:Garden Party Books\, 602 7th St NW\, Rochester\, Minnesota\, 55901\, United States
CATEGORIES:Garden Party Books
ATTACH;FMTTYPE=image/png:https://gardenpartybooks.com/wp-content/uploads/2022/08/ROCHESTER-AN-URBAN-BIOGRAPHY.png
END:VEVENT
END:VCALENDAR